BEGIN:VCALENDAR
VERSION:2.0
PRODID:-//Full Metal Modelling - ECPv6.15.13//NONSGML v1.0//EN
CALSCALE:GREGORIAN
METHOD:PUBLISH
X-WR-CALNAME:Full Metal Modelling
X-ORIGINAL-URL:https://fmmodelling.com
X-WR-CALDESC:Eventos para Full Metal Modelling
REFRESH-INTERVAL;VALUE=DURATION:PT1H
X-Robots-Tag:noindex
X-PUBLISHED-TTL:PT1H
BEGIN:VTIMEZONE
TZID:Europe/Helsinki
BEGIN:DAYLIGHT
TZOFFSETFROM:+0200
TZOFFSETTO:+0300
TZNAME:EEST
DTSTART:20190331T010000
END:DAYLIGHT
BEGIN:STANDARD
TZOFFSETFROM:+0300
TZOFFSETTO:+0200
TZNAME:EET
DTSTART:20191027T010000
END:STANDARD
BEGIN:DAYLIGHT
TZOFFSETFROM:+0200
TZOFFSETTO:+0300
TZNAME:EEST
DTSTART:20200329T010000
END:DAYLIGHT
BEGIN:STANDARD
TZOFFSETFROM:+0300
TZOFFSETTO:+0200
TZNAME:EET
DTSTART:20201025T010000
END:STANDARD
BEGIN:DAYLIGHT
TZOFFSETFROM:+0200
TZOFFSETTO:+0300
TZNAME:EEST
DTSTART:20210328T010000
END:DAYLIGHT
BEGIN:STANDARD
TZOFFSETFROM:+0300
TZOFFSETTO:+0200
TZNAME:EET
DTSTART:20211031T010000
END:STANDARD
BEGIN:DAYLIGHT
TZOFFSETFROM:+0200
TZOFFSETTO:+0300
TZNAME:EEST
DTSTART:20220327T010000
END:DAYLIGHT
BEGIN:STANDARD
TZOFFSETFROM:+0300
TZOFFSETTO:+0200
TZNAME:EET
DTSTART:20221030T010000
END:STANDARD
END:VTIMEZONE
BEGIN:VEVENT
DTSTART;TZID=Europe/Helsinki:20201101T080000
DTEND;TZID=Europe/Helsinki:20201130T233000
DTSTAMP:20260424T235624
CREATED:20201102T172549Z
LAST-MODIFIED:20201102T172649Z
UID:16680-1604217600-1606779000@fmmodelling.com
SUMMARY:I Certamen de Escenificación ¡Dale vida a tu maqueta! AMMO/FMM - Noviembre 2020
DESCRIPTION:Este Certamen de Modelismo Estático organizado en colaboración con la marca AMMO\, valora las técnicas de ambientación y escenificación de la base de una maqueta\, siendo de naturaleza online a través de la web de Full Metal Modelling. Habrá un estupendo premio cortesía de la marca AMMO. La elección de la obra ganadora será responsabilidad de un jurado liderado por el maestro Jorge Porto\, de AMMO.
URL:https://fmmodelling.com/evento/i-certamen-de-escenificacion-dale-vida-a-tu-maqueta-ammo-fmm-noviembre-2020/
LOCATION:Full Metal Modelling\, fmmodelling.com\, España
ATTACH;FMTTYPE=image/jpeg:https://fmmodelling.com/wp-content/uploads/2020/11/20201101_213611.jpg
END:VEVENT
BEGIN:VEVENT
DTSTART;TZID=Europe/Helsinki:20201109T080000
DTEND;TZID=Europe/Helsinki:20210103T000000
DTSTAMP:20260424T235624
CREATED:20201109T185742Z
LAST-MODIFIED:20201109T185742Z
UID:16976-1604908800-1609632000@fmmodelling.com
SUMMARY:I Concurso Junior de Modelismo
DESCRIPTION:Este Concurso de Modelismo Estático Junior organizado en colaboración con diversas marcas y tiendas españolas\, está orientado a estimular la afición del modelismo entre el sector infantil y juvenil\, siendo de naturaleza online a través de la web de Full Metal Modelling\, habrá muchos premios a repartir. La elección de las obras ganadoras será a cargo de un jurado imparcial designado por la organización de Full Metal Modelling.
URL:https://fmmodelling.com/evento/i-concurso-junior-de-modelismo/
LOCATION:Full Metal Modelling\, fmmodelling.com\, España
ATTACH;FMTTYPE=image/jpeg:https://fmmodelling.com/wp-content/uploads/2020/11/cartel-junior.jpg
END:VEVENT
END:VCALENDAR